BEGIN:VCALENDAR
VERSION:2.0
PRODID:-//Rio Grande Region of Narcotics Anonymous - ECPv6.15.14//NONSGML v1.0//EN
CALSCALE:GREGORIAN
METHOD:PUBLISH
X-WR-CALNAME:Rio Grande Region of Narcotics Anonymous
X-ORIGINAL-URL:https://riograndena.org
X-WR-CALDESC:Events for Rio Grande Region of Narcotics Anonymous
REFRESH-INTERVAL;VALUE=DURATION:PT1H
X-Robots-Tag:noindex
X-PUBLISHED-TTL:PT1H
BEGIN:VTIMEZONE
TZID:America/Denver
BEGIN:DAYLIGHT
TZOFFSETFROM:-0700
TZOFFSETTO:-0600
TZNAME:MDT
DTSTART:20240310T090000
END:DAYLIGHT
BEGIN:STANDARD
TZOFFSETFROM:-0600
TZOFFSETTO:-0700
TZNAME:MST
DTSTART:20241103T080000
END:STANDARD
BEGIN:DAYLIGHT
TZOFFSETFROM:-0700
TZOFFSETTO:-0600
TZNAME:MDT
DTSTART:20250309T090000
END:DAYLIGHT
BEGIN:STANDARD
TZOFFSETFROM:-0600
TZOFFSETTO:-0700
TZNAME:MST
DTSTART:20251102T080000
END:STANDARD
BEGIN:DAYLIGHT
TZOFFSETFROM:-0700
TZOFFSETTO:-0600
TZNAME:MDT
DTSTART:20260308T090000
END:DAYLIGHT
BEGIN:STANDARD
TZOFFSETFROM:-0600
TZOFFSETTO:-0700
TZNAME:MST
DTSTART:20261101T080000
END:STANDARD
END:VTIMEZONE
BEGIN:VEVENT
DTSTART;TZID=America/Denver:20251207T130000
DTEND;TZID=America/Denver:20251207T160000
DTSTAMP:20260420T080446
CREATED:20251204T194805Z
LAST-MODIFIED:20251204T195119Z
UID:10000952-1765112400-1765123200@riograndena.org
SUMMARY:Four Corners Area CAR (Conference Agenda Report) Workshop
DESCRIPTION:This will be a workshop going over the motions that will be voted on at the WSC (World Service Committee) meeting in April 2026
URL:https://riograndena.org/upcoming-event/four-corners-car-conference-agenda-report-workshop/
LOCATION:Animas Alano Club\, 2601 Junction Street\, Durango\, NM\, 81301\, United States
CATEGORIES:Four Corners Area,Rio Grande Region
END:VEVENT
END:VCALENDAR