BEGIN:VCALENDAR
VERSION:2.0
PRODID:-//Rio Grande Region of Narcotics Anonymous - ECPv6.15.20//NONSGML v1.0//EN
CALSCALE:GREGORIAN
METHOD:PUBLISH
X-ORIGINAL-URL:https://riograndena.org
X-WR-CALDESC:Events for Rio Grande Region of Narcotics Anonymous
REFRESH-INTERVAL;VALUE=DURATION:PT1H
X-Robots-Tag:noindex
X-PUBLISHED-TTL:PT1H
BEGIN:VTIMEZONE
TZID:America/Denver
BEGIN:DAYLIGHT
TZOFFSETFROM:-0700
TZOFFSETTO:-0600
TZNAME:MDT
DTSTART:20250309T090000
END:DAYLIGHT
BEGIN:STANDARD
TZOFFSETFROM:-0600
TZOFFSETTO:-0700
TZNAME:MST
DTSTART:20251102T080000
END:STANDARD
BEGIN:DAYLIGHT
TZOFFSETFROM:-0700
TZOFFSETTO:-0600
TZNAME:MDT
DTSTART:20260308T090000
END:DAYLIGHT
BEGIN:STANDARD
TZOFFSETFROM:-0600
TZOFFSETTO:-0700
TZNAME:MST
DTSTART:20261101T080000
END:STANDARD
BEGIN:DAYLIGHT
TZOFFSETFROM:-0700
TZOFFSETTO:-0600
TZNAME:MDT
DTSTART:20270314T090000
END:DAYLIGHT
BEGIN:STANDARD
TZOFFSETFROM:-0600
TZOFFSETTO:-0700
TZNAME:MST
DTSTART:20271107T080000
END:STANDARD
BEGIN:DAYLIGHT
TZOFFSETFROM:-0700
TZOFFSETTO:-0600
TZNAME:MDT
DTSTART:20280312T090000
END:DAYLIGHT
BEGIN:STANDARD
TZOFFSETFROM:-0600
TZOFFSETTO:-0700
TZNAME:MST
DTSTART:20281105T080000
END:STANDARD
END:VTIMEZONE
BEGIN:VEVENT
DTSTART;TZID=America/Denver:20260606T143000
DTEND;TZID=America/Denver:20260606T153000
DTSTAMP:20260425T082452
CREATED:20251113T182743Z
LAST-MODIFIED:20251204T195200Z
UID:10000893-1780756200-1780759800@riograndena.org
SUMMARY:Delegate Resource Team Meeting
DESCRIPTION:This meeting is on zoom only \nZoom ID: 864 8227 6311 \nPassword: RGRSC \nhttps://us02web.zoom.us/meetings/86482276311/invitations?signature=WB3rEKOLo8zLtu2rRKr7lAF3R0YkGclz6cJyuxNS0Pg
URL:https://riograndena.org/upcoming-event/delegate-resource-team-meeting/2026-06-06/
LOCATION:
CATEGORIES:Rio Grande Region
END:VEVENT
BEGIN:VEVENT
DTSTART;TZID=America/Denver:20260611T183000
DTEND;TZID=America/Denver:20260611T200000
DTSTAMP:20260425T082452
CREATED:20260316T181209Z
LAST-MODIFIED:20260316T181209Z
UID:10000835-1781202600-1781208000@riograndena.org
SUMMARY:RCC Board Meeting
DESCRIPTION:This meeting is zoom only \nZoom ID: 841 3283 9746 \nPassword: RGRCC \nhttps://us02web.zoom.us/j/84132839746?pwd=REFROExsc0lzMG4zUm9uaWRSdjBQZz09
URL:https://riograndena.org/upcoming-event/rcc-board-meeting-2-2-2-2-2-2-2-2/2026-06-11/
LOCATION:https://us02web.zoom.us/j/84132839746?pwd=REFROExsc0lzMG4zUm9uaWRSdjBQZz09
CATEGORIES:Rio Grande Region
END:VEVENT
BEGIN:VEVENT
DTSTART;TZID=America/Denver:20260704T143000
DTEND;TZID=America/Denver:20260704T153000
DTSTAMP:20260425T082452
CREATED:20251113T182743Z
LAST-MODIFIED:20251204T195200Z
UID:10000894-1783175400-1783179000@riograndena.org
SUMMARY:Delegate Resource Team Meeting
DESCRIPTION:This meeting is on zoom only \nZoom ID: 864 8227 6311 \nPassword: RGRSC \nhttps://us02web.zoom.us/meetings/86482276311/invitations?signature=WB3rEKOLo8zLtu2rRKr7lAF3R0YkGclz6cJyuxNS0Pg
URL:https://riograndena.org/upcoming-event/delegate-resource-team-meeting/2026-07-04/
LOCATION:
CATEGORIES:Rio Grande Region
END:VEVENT
BEGIN:VEVENT
DTSTART;TZID=America/Denver:20260709T183000
DTEND;TZID=America/Denver:20260709T200000
DTSTAMP:20260425T082452
CREATED:20260316T181209Z
LAST-MODIFIED:20260316T181209Z
UID:10000836-1783621800-1783627200@riograndena.org
SUMMARY:RCC Board Meeting
DESCRIPTION:This meeting is zoom only \nZoom ID: 841 3283 9746 \nPassword: RGRCC \nhttps://us02web.zoom.us/j/84132839746?pwd=REFROExsc0lzMG4zUm9uaWRSdjBQZz09
URL:https://riograndena.org/upcoming-event/rcc-board-meeting-2-2-2-2-2-2-2-2/2026-07-09/
LOCATION:https://us02web.zoom.us/j/84132839746?pwd=REFROExsc0lzMG4zUm9uaWRSdjBQZz09
CATEGORIES:Rio Grande Region
END:VEVENT
BEGIN:VEVENT
DTSTART;TZID=America/Denver:20260718T140000
DTEND;TZID=America/Denver:20260718T180000
DTSTAMP:20260425T082452
CREATED:20260412T164632Z
LAST-MODIFIED:20260412T164632Z
UID:10000744-1784383200-1784397600@riograndena.org
SUMMARY:Rio Grande Regional Service Committee Meeting
DESCRIPTION:This is a hybrid meeting \nZoom ID: 806 834 7750 \nPassword: RGRSC
URL:https://riograndena.org/upcoming-event/rio-grande-regional-service-committee-2-2-2-2-2/2026-07-18/
LOCATION:Unitarian Universalist Church\, 107 W Barcelona Rd\, Santa Fe\, NM\, 87505\, United States
CATEGORIES:Rio Grande Region
END:VEVENT
BEGIN:VEVENT
DTSTART;TZID=America/Denver:20260801T143000
DTEND;TZID=America/Denver:20260801T153000
DTSTAMP:20260425T082452
CREATED:20251113T182743Z
LAST-MODIFIED:20251204T195200Z
UID:10000895-1785594600-1785598200@riograndena.org
SUMMARY:Delegate Resource Team Meeting
DESCRIPTION:This meeting is on zoom only \nZoom ID: 864 8227 6311 \nPassword: RGRSC \nhttps://us02web.zoom.us/meetings/86482276311/invitations?signature=WB3rEKOLo8zLtu2rRKr7lAF3R0YkGclz6cJyuxNS0Pg
URL:https://riograndena.org/upcoming-event/delegate-resource-team-meeting/2026-08-01/
LOCATION:
CATEGORIES:Rio Grande Region
END:VEVENT
BEGIN:VEVENT
DTSTART;TZID=America/Denver:20260813T183000
DTEND;TZID=America/Denver:20260813T200000
DTSTAMP:20260425T082452
CREATED:20260316T181209Z
LAST-MODIFIED:20260316T181209Z
UID:10000837-1786645800-1786651200@riograndena.org
SUMMARY:RCC Board Meeting
DESCRIPTION:This meeting is zoom only \nZoom ID: 841 3283 9746 \nPassword: RGRCC \nhttps://us02web.zoom.us/j/84132839746?pwd=REFROExsc0lzMG4zUm9uaWRSdjBQZz09
URL:https://riograndena.org/upcoming-event/rcc-board-meeting-2-2-2-2-2-2-2-2/2026-08-13/
LOCATION:https://us02web.zoom.us/j/84132839746?pwd=REFROExsc0lzMG4zUm9uaWRSdjBQZz09
CATEGORIES:Rio Grande Region
END:VEVENT
BEGIN:VEVENT
DTSTART;TZID=America/Denver:20260905T143000
DTEND;TZID=America/Denver:20260905T153000
DTSTAMP:20260425T082452
CREATED:20251113T182743Z
LAST-MODIFIED:20251204T195200Z
UID:10000896-1788618600-1788622200@riograndena.org
SUMMARY:Delegate Resource Team Meeting
DESCRIPTION:This meeting is on zoom only \nZoom ID: 864 8227 6311 \nPassword: RGRSC \nhttps://us02web.zoom.us/meetings/86482276311/invitations?signature=WB3rEKOLo8zLtu2rRKr7lAF3R0YkGclz6cJyuxNS0Pg
URL:https://riograndena.org/upcoming-event/delegate-resource-team-meeting/2026-09-05/
LOCATION:
CATEGORIES:Rio Grande Region
END:VEVENT
BEGIN:VEVENT
DTSTART;TZID=America/Denver:20260910T183000
DTEND;TZID=America/Denver:20260910T200000
DTSTAMP:20260425T082452
CREATED:20260316T181209Z
LAST-MODIFIED:20260316T181209Z
UID:10000838-1789065000-1789070400@riograndena.org
SUMMARY:RCC Board Meeting
DESCRIPTION:This meeting is zoom only \nZoom ID: 841 3283 9746 \nPassword: RGRCC \nhttps://us02web.zoom.us/j/84132839746?pwd=REFROExsc0lzMG4zUm9uaWRSdjBQZz09
URL:https://riograndena.org/upcoming-event/rcc-board-meeting-2-2-2-2-2-2-2-2/2026-09-10/
LOCATION:https://us02web.zoom.us/j/84132839746?pwd=REFROExsc0lzMG4zUm9uaWRSdjBQZz09
CATEGORIES:Rio Grande Region
END:VEVENT
BEGIN:VEVENT
DTSTART;TZID=America/Denver:20260919T140000
DTEND;TZID=America/Denver:20260919T180000
DTSTAMP:20260425T082452
CREATED:20260412T164632Z
LAST-MODIFIED:20260412T164632Z
UID:10000745-1789826400-1789840800@riograndena.org
SUMMARY:Rio Grande Regional Service Committee Meeting
DESCRIPTION:This is a hybrid meeting \nZoom ID: 806 834 7750 \nPassword: RGRSC
URL:https://riograndena.org/upcoming-event/rio-grande-regional-service-committee-2-2-2-2-2/2026-09-19/
LOCATION:Unitarian Universalist Church\, 107 W Barcelona Rd\, Santa Fe\, NM\, 87505\, United States
CATEGORIES:Rio Grande Region
END:VEVENT
BEGIN:VEVENT
DTSTART;TZID=America/Denver:20261003T143000
DTEND;TZID=America/Denver:20261003T153000
DTSTAMP:20260425T082452
CREATED:20251113T182743Z
LAST-MODIFIED:20251204T195200Z
UID:10000897-1791037800-1791041400@riograndena.org
SUMMARY:Delegate Resource Team Meeting
DESCRIPTION:This meeting is on zoom only \nZoom ID: 864 8227 6311 \nPassword: RGRSC \nhttps://us02web.zoom.us/meetings/86482276311/invitations?signature=WB3rEKOLo8zLtu2rRKr7lAF3R0YkGclz6cJyuxNS0Pg
URL:https://riograndena.org/upcoming-event/delegate-resource-team-meeting/2026-10-03/
LOCATION:
CATEGORIES:Rio Grande Region
END:VEVENT
BEGIN:VEVENT
DTSTART;TZID=America/Denver:20261008T183000
DTEND;TZID=America/Denver:20261008T200000
DTSTAMP:20260425T082452
CREATED:20260316T181209Z
LAST-MODIFIED:20260316T181209Z
UID:10000839-1791484200-1791489600@riograndena.org
SUMMARY:RCC Board Meeting
DESCRIPTION:This meeting is zoom only \nZoom ID: 841 3283 9746 \nPassword: RGRCC \nhttps://us02web.zoom.us/j/84132839746?pwd=REFROExsc0lzMG4zUm9uaWRSdjBQZz09
URL:https://riograndena.org/upcoming-event/rcc-board-meeting-2-2-2-2-2-2-2-2/2026-10-08/
LOCATION:https://us02web.zoom.us/j/84132839746?pwd=REFROExsc0lzMG4zUm9uaWRSdjBQZz09
CATEGORIES:Rio Grande Region
END:VEVENT
BEGIN:VEVENT
DTSTART;TZID=America/Denver:20261107T143000
DTEND;TZID=America/Denver:20261107T153000
DTSTAMP:20260425T082452
CREATED:20251113T182743Z
LAST-MODIFIED:20251204T195200Z
UID:10000898-1794061800-1794065400@riograndena.org
SUMMARY:Delegate Resource Team Meeting
DESCRIPTION:This meeting is on zoom only \nZoom ID: 864 8227 6311 \nPassword: RGRSC \nhttps://us02web.zoom.us/meetings/86482276311/invitations?signature=WB3rEKOLo8zLtu2rRKr7lAF3R0YkGclz6cJyuxNS0Pg
URL:https://riograndena.org/upcoming-event/delegate-resource-team-meeting/2026-11-07/
LOCATION:
CATEGORIES:Rio Grande Region
END:VEVENT
BEGIN:VEVENT
DTSTART;TZID=America/Denver:20261112T183000
DTEND;TZID=America/Denver:20261112T200000
DTSTAMP:20260425T082452
CREATED:20260316T181209Z
LAST-MODIFIED:20260316T181209Z
UID:10000840-1794508200-1794513600@riograndena.org
SUMMARY:RCC Board Meeting
DESCRIPTION:This meeting is zoom only \nZoom ID: 841 3283 9746 \nPassword: RGRCC \nhttps://us02web.zoom.us/j/84132839746?pwd=REFROExsc0lzMG4zUm9uaWRSdjBQZz09
URL:https://riograndena.org/upcoming-event/rcc-board-meeting-2-2-2-2-2-2-2-2/2026-11-12/
LOCATION:https://us02web.zoom.us/j/84132839746?pwd=REFROExsc0lzMG4zUm9uaWRSdjBQZz09
CATEGORIES:Rio Grande Region
END:VEVENT
BEGIN:VEVENT
DTSTART;TZID=America/Denver:20261121T140000
DTEND;TZID=America/Denver:20261121T180000
DTSTAMP:20260425T082452
CREATED:20260412T164632Z
LAST-MODIFIED:20260412T164632Z
UID:10000746-1795269600-1795284000@riograndena.org
SUMMARY:Rio Grande Regional Service Committee Meeting
DESCRIPTION:This is a hybrid meeting \nZoom ID: 806 834 7750 \nPassword: RGRSC
URL:https://riograndena.org/upcoming-event/rio-grande-regional-service-committee-2-2-2-2-2/2026-11-21/
LOCATION:Unitarian Universalist Church\, 107 W Barcelona Rd\, Santa Fe\, NM\, 87505\, United States
CATEGORIES:Rio Grande Region
END:VEVENT
BEGIN:VEVENT
DTSTART;TZID=America/Denver:20261205T143000
DTEND;TZID=America/Denver:20261205T153000
DTSTAMP:20260425T082452
CREATED:20251113T182743Z
LAST-MODIFIED:20251204T195200Z
UID:10000899-1796481000-1796484600@riograndena.org
SUMMARY:Delegate Resource Team Meeting
DESCRIPTION:This meeting is on zoom only \nZoom ID: 864 8227 6311 \nPassword: RGRSC \nhttps://us02web.zoom.us/meetings/86482276311/invitations?signature=WB3rEKOLo8zLtu2rRKr7lAF3R0YkGclz6cJyuxNS0Pg
URL:https://riograndena.org/upcoming-event/delegate-resource-team-meeting/2026-12-05/
LOCATION:
CATEGORIES:Rio Grande Region
END:VEVENT
BEGIN:VEVENT
DTSTART;TZID=America/Denver:20261210T183000
DTEND;TZID=America/Denver:20261210T200000
DTSTAMP:20260425T082452
CREATED:20260316T181209Z
LAST-MODIFIED:20260316T181209Z
UID:10000841-1796927400-1796932800@riograndena.org
SUMMARY:RCC Board Meeting
DESCRIPTION:This meeting is zoom only \nZoom ID: 841 3283 9746 \nPassword: RGRCC \nhttps://us02web.zoom.us/j/84132839746?pwd=REFROExsc0lzMG4zUm9uaWRSdjBQZz09
URL:https://riograndena.org/upcoming-event/rcc-board-meeting-2-2-2-2-2-2-2-2/2026-12-10/
LOCATION:https://us02web.zoom.us/j/84132839746?pwd=REFROExsc0lzMG4zUm9uaWRSdjBQZz09
CATEGORIES:Rio Grande Region
END:VEVENT
BEGIN:VEVENT
DTSTART;TZID=America/Denver:20270102T143000
DTEND;TZID=America/Denver:20270102T153000
DTSTAMP:20260425T082452
CREATED:20251113T182743Z
LAST-MODIFIED:20251204T195200Z
UID:10000900-1798900200-1798903800@riograndena.org
SUMMARY:Delegate Resource Team Meeting
DESCRIPTION:This meeting is on zoom only \nZoom ID: 864 8227 6311 \nPassword: RGRSC \nhttps://us02web.zoom.us/meetings/86482276311/invitations?signature=WB3rEKOLo8zLtu2rRKr7lAF3R0YkGclz6cJyuxNS0Pg
URL:https://riograndena.org/upcoming-event/delegate-resource-team-meeting/2027-01-02/
LOCATION:
CATEGORIES:Rio Grande Region
END:VEVENT
BEGIN:VEVENT
DTSTART;TZID=America/Denver:20270114T183000
DTEND;TZID=America/Denver:20270114T200000
DTSTAMP:20260425T082452
CREATED:20260316T181209Z
LAST-MODIFIED:20260316T181209Z
UID:10000842-1799951400-1799956800@riograndena.org
SUMMARY:RCC Board Meeting
DESCRIPTION:This meeting is zoom only \nZoom ID: 841 3283 9746 \nPassword: RGRCC \nhttps://us02web.zoom.us/j/84132839746?pwd=REFROExsc0lzMG4zUm9uaWRSdjBQZz09
URL:https://riograndena.org/upcoming-event/rcc-board-meeting-2-2-2-2-2-2-2-2/2027-01-14/
LOCATION:https://us02web.zoom.us/j/84132839746?pwd=REFROExsc0lzMG4zUm9uaWRSdjBQZz09
CATEGORIES:Rio Grande Region
END:VEVENT
BEGIN:VEVENT
DTSTART;TZID=America/Denver:20270116T140000
DTEND;TZID=America/Denver:20270116T180000
DTSTAMP:20260425T082452
CREATED:20260412T164632Z
LAST-MODIFIED:20260412T164632Z
UID:10000747-1800108000-1800122400@riograndena.org
SUMMARY:Rio Grande Regional Service Committee Meeting
DESCRIPTION:This is a hybrid meeting \nZoom ID: 806 834 7750 \nPassword: RGRSC
URL:https://riograndena.org/upcoming-event/rio-grande-regional-service-committee-2-2-2-2-2/2027-01-16/
LOCATION:Unitarian Universalist Church\, 107 W Barcelona Rd\, Santa Fe\, NM\, 87505\, United States
CATEGORIES:Rio Grande Region
END:VEVENT
BEGIN:VEVENT
DTSTART;TZID=America/Denver:20270206T143000
DTEND;TZID=America/Denver:20270206T153000
DTSTAMP:20260425T082452
CREATED:20251113T182743Z
LAST-MODIFIED:20251204T195200Z
UID:10000901-1801924200-1801927800@riograndena.org
SUMMARY:Delegate Resource Team Meeting
DESCRIPTION:This meeting is on zoom only \nZoom ID: 864 8227 6311 \nPassword: RGRSC \nhttps://us02web.zoom.us/meetings/86482276311/invitations?signature=WB3rEKOLo8zLtu2rRKr7lAF3R0YkGclz6cJyuxNS0Pg
URL:https://riograndena.org/upcoming-event/delegate-resource-team-meeting/2027-02-06/
LOCATION:
CATEGORIES:Rio Grande Region
END:VEVENT
BEGIN:VEVENT
DTSTART;TZID=America/Denver:20270211T183000
DTEND;TZID=America/Denver:20270211T200000
DTSTAMP:20260425T082452
CREATED:20260316T181209Z
LAST-MODIFIED:20260316T181209Z
UID:10000843-1802370600-1802376000@riograndena.org
SUMMARY:RCC Board Meeting
DESCRIPTION:This meeting is zoom only \nZoom ID: 841 3283 9746 \nPassword: RGRCC \nhttps://us02web.zoom.us/j/84132839746?pwd=REFROExsc0lzMG4zUm9uaWRSdjBQZz09
URL:https://riograndena.org/upcoming-event/rcc-board-meeting-2-2-2-2-2-2-2-2/2027-02-11/
LOCATION:https://us02web.zoom.us/j/84132839746?pwd=REFROExsc0lzMG4zUm9uaWRSdjBQZz09
CATEGORIES:Rio Grande Region
END:VEVENT
BEGIN:VEVENT
DTSTART;TZID=America/Denver:20270306T143000
DTEND;TZID=America/Denver:20270306T153000
DTSTAMP:20260425T082452
CREATED:20251113T182743Z
LAST-MODIFIED:20251204T195200Z
UID:10000902-1804343400-1804347000@riograndena.org
SUMMARY:Delegate Resource Team Meeting
DESCRIPTION:This meeting is on zoom only \nZoom ID: 864 8227 6311 \nPassword: RGRSC \nhttps://us02web.zoom.us/meetings/86482276311/invitations?signature=WB3rEKOLo8zLtu2rRKr7lAF3R0YkGclz6cJyuxNS0Pg
URL:https://riograndena.org/upcoming-event/delegate-resource-team-meeting/2027-03-06/
LOCATION:
CATEGORIES:Rio Grande Region
END:VEVENT
BEGIN:VEVENT
DTSTART;TZID=America/Denver:20270311T183000
DTEND;TZID=America/Denver:20270311T200000
DTSTAMP:20260425T082452
CREATED:20260316T181209Z
LAST-MODIFIED:20260316T181209Z
UID:10000844-1804789800-1804795200@riograndena.org
SUMMARY:RCC Board Meeting
DESCRIPTION:This meeting is zoom only \nZoom ID: 841 3283 9746 \nPassword: RGRCC \nhttps://us02web.zoom.us/j/84132839746?pwd=REFROExsc0lzMG4zUm9uaWRSdjBQZz09
URL:https://riograndena.org/upcoming-event/rcc-board-meeting-2-2-2-2-2-2-2-2/2027-03-11/
LOCATION:https://us02web.zoom.us/j/84132839746?pwd=REFROExsc0lzMG4zUm9uaWRSdjBQZz09
CATEGORIES:Rio Grande Region
END:VEVENT
BEGIN:VEVENT
DTSTART;TZID=America/Denver:20270320T140000
DTEND;TZID=America/Denver:20270320T180000
DTSTAMP:20260425T082452
CREATED:20260412T164632Z
LAST-MODIFIED:20260412T164632Z
UID:10000748-1805551200-1805565600@riograndena.org
SUMMARY:Rio Grande Regional Service Committee Meeting
DESCRIPTION:This is a hybrid meeting \nZoom ID: 806 834 7750 \nPassword: RGRSC
URL:https://riograndena.org/upcoming-event/rio-grande-regional-service-committee-2-2-2-2-2/2027-03-20/
LOCATION:Unitarian Universalist Church\, 107 W Barcelona Rd\, Santa Fe\, NM\, 87505\, United States
CATEGORIES:Rio Grande Region
END:VEVENT
BEGIN:VEVENT
DTSTART;TZID=America/Denver:20270403T143000
DTEND;TZID=America/Denver:20270403T153000
DTSTAMP:20260425T082452
CREATED:20251113T182743Z
LAST-MODIFIED:20251204T195200Z
UID:10000903-1806762600-1806766200@riograndena.org
SUMMARY:Delegate Resource Team Meeting
DESCRIPTION:This meeting is on zoom only \nZoom ID: 864 8227 6311 \nPassword: RGRSC \nhttps://us02web.zoom.us/meetings/86482276311/invitations?signature=WB3rEKOLo8zLtu2rRKr7lAF3R0YkGclz6cJyuxNS0Pg
URL:https://riograndena.org/upcoming-event/delegate-resource-team-meeting/2027-04-03/
LOCATION:
CATEGORIES:Rio Grande Region
END:VEVENT
BEGIN:VEVENT
DTSTART;TZID=America/Denver:20270408T183000
DTEND;TZID=America/Denver:20270408T200000
DTSTAMP:20260425T082452
CREATED:20260316T181209Z
LAST-MODIFIED:20260316T181209Z
UID:10000845-1807209000-1807214400@riograndena.org
SUMMARY:RCC Board Meeting
DESCRIPTION:This meeting is zoom only \nZoom ID: 841 3283 9746 \nPassword: RGRCC \nhttps://us02web.zoom.us/j/84132839746?pwd=REFROExsc0lzMG4zUm9uaWRSdjBQZz09
URL:https://riograndena.org/upcoming-event/rcc-board-meeting-2-2-2-2-2-2-2-2/2027-04-08/
LOCATION:https://us02web.zoom.us/j/84132839746?pwd=REFROExsc0lzMG4zUm9uaWRSdjBQZz09
CATEGORIES:Rio Grande Region
END:VEVENT
BEGIN:VEVENT
DTSTART;TZID=America/Denver:20270501T143000
DTEND;TZID=America/Denver:20270501T153000
DTSTAMP:20260425T082452
CREATED:20251113T182743Z
LAST-MODIFIED:20251204T195200Z
UID:10000904-1809181800-1809185400@riograndena.org
SUMMARY:Delegate Resource Team Meeting
DESCRIPTION:This meeting is on zoom only \nZoom ID: 864 8227 6311 \nPassword: RGRSC \nhttps://us02web.zoom.us/meetings/86482276311/invitations?signature=WB3rEKOLo8zLtu2rRKr7lAF3R0YkGclz6cJyuxNS0Pg
URL:https://riograndena.org/upcoming-event/delegate-resource-team-meeting/2027-05-01/
LOCATION:
CATEGORIES:Rio Grande Region
END:VEVENT
BEGIN:VEVENT
DTSTART;TZID=America/Denver:20270513T183000
DTEND;TZID=America/Denver:20270513T200000
DTSTAMP:20260425T082452
CREATED:20260316T181209Z
LAST-MODIFIED:20260316T181209Z
UID:10000846-1810233000-1810238400@riograndena.org
SUMMARY:RCC Board Meeting
DESCRIPTION:This meeting is zoom only \nZoom ID: 841 3283 9746 \nPassword: RGRCC \nhttps://us02web.zoom.us/j/84132839746?pwd=REFROExsc0lzMG4zUm9uaWRSdjBQZz09
URL:https://riograndena.org/upcoming-event/rcc-board-meeting-2-2-2-2-2-2-2-2/2027-05-13/
LOCATION:https://us02web.zoom.us/j/84132839746?pwd=REFROExsc0lzMG4zUm9uaWRSdjBQZz09
CATEGORIES:Rio Grande Region
END:VEVENT
BEGIN:VEVENT
DTSTART;TZID=America/Denver:20270515T140000
DTEND;TZID=America/Denver:20270515T180000
DTSTAMP:20260425T082452
CREATED:20260412T164632Z
LAST-MODIFIED:20260412T164632Z
UID:10000749-1810389600-1810404000@riograndena.org
SUMMARY:Rio Grande Regional Service Committee Meeting
DESCRIPTION:This is a hybrid meeting \nZoom ID: 806 834 7750 \nPassword: RGRSC
URL:https://riograndena.org/upcoming-event/rio-grande-regional-service-committee-2-2-2-2-2/2027-05-15/
LOCATION:Unitarian Universalist Church\, 107 W Barcelona Rd\, Santa Fe\, NM\, 87505\, United States
CATEGORIES:Rio Grande Region
END:VEVENT
END:VCALENDAR