BEGIN:VCALENDAR
VERSION:2.0
PRODID:-//Rio Grande Region of Narcotics Anonymous - ECPv6.15.20//NONSGML v1.0//EN
CALSCALE:GREGORIAN
METHOD:PUBLISH
X-WR-CALNAME:Rio Grande Region of Narcotics Anonymous
X-ORIGINAL-URL:https://riograndena.org
X-WR-CALDESC:Events for Rio Grande Region of Narcotics Anonymous
REFRESH-INTERVAL;VALUE=DURATION:PT1H
X-Robots-Tag:noindex
X-PUBLISHED-TTL:PT1H
BEGIN:VTIMEZONE
TZID:America/Denver
BEGIN:DAYLIGHT
TZOFFSETFROM:-0700
TZOFFSETTO:-0600
TZNAME:MDT
DTSTART:20240310T090000
END:DAYLIGHT
BEGIN:STANDARD
TZOFFSETFROM:-0600
TZOFFSETTO:-0700
TZNAME:MST
DTSTART:20241103T080000
END:STANDARD
BEGIN:DAYLIGHT
TZOFFSETFROM:-0700
TZOFFSETTO:-0600
TZNAME:MDT
DTSTART:20250309T090000
END:DAYLIGHT
BEGIN:STANDARD
TZOFFSETFROM:-0600
TZOFFSETTO:-0700
TZNAME:MST
DTSTART:20251102T080000
END:STANDARD
BEGIN:DAYLIGHT
TZOFFSETFROM:-0700
TZOFFSETTO:-0600
TZNAME:MDT
DTSTART:20260308T090000
END:DAYLIGHT
BEGIN:STANDARD
TZOFFSETFROM:-0600
TZOFFSETTO:-0700
TZNAME:MST
DTSTART:20261101T080000
END:STANDARD
BEGIN:DAYLIGHT
TZOFFSETFROM:-0700
TZOFFSETTO:-0600
TZNAME:MDT
DTSTART:20270314T090000
END:DAYLIGHT
BEGIN:STANDARD
TZOFFSETFROM:-0600
TZOFFSETTO:-0700
TZNAME:MST
DTSTART:20271107T080000
END:STANDARD
END:VTIMEZONE
BEGIN:VEVENT
DTSTART;TZID=America/Denver:20260117T110000
DTEND;TZID=America/Denver:20260117T130000
DTSTAMP:20260425T080248
CREATED:20251224T041618Z
LAST-MODIFIED:20251224T041618Z
UID:10000962-1768647600-1768654800@riograndena.org
SUMMARY:El Paso Area & Southern NM Area CAR (Conference Agenda Report) Workshop
DESCRIPTION:This will be a workshop going over the motions that will be voted on at the WSC (World Service Committee) meeting in April 2026
URL:https://riograndena.org/upcoming-event/el-paso-area-southern-nm-area-car-conference-agenda-report-workshop/
LOCATION:Casa Vida\, 3501 Hueco Ave\, El Paso\, 79903\, United States
CATEGORIES:El Paso Area,Rio Grande Region,Southern New Mexico Area
END:VEVENT
BEGIN:VEVENT
DTSTART;TZID=America/Denver:20260111T123000
DTEND;TZID=America/Denver:20260111T143000
DTSTAMP:20260425T080248
CREATED:20251224T041410Z
LAST-MODIFIED:20251224T041504Z
UID:10000961-1768134600-1768141800@riograndena.org
SUMMARY:Greater Albuquerque Area and Bosque Area CAR (Conference Agenda Report) Workshop
DESCRIPTION:This will be a workshop going over the motions that will be voted on at the WSC (World Service Committee) meeting in April 2026 \n \n 
URL:https://riograndena.org/upcoming-event/greater-albuquerque-area-and-bosque-area-conference-agenda-report-car-workshop/
LOCATION:Transgender Resource Center\, 5600 Domingo Road NE\, Albuquerque\, NM\, 87108\, United States
CATEGORIES:Bosque Area,Greater Albuquerque Area,Rio Grande Region
END:VEVENT
BEGIN:VEVENT
DTSTART;TZID=America/Denver:20260108T183000
DTEND;TZID=America/Denver:20260108T200000
DTSTAMP:20260425T080248
CREATED:20260106T164307Z
LAST-MODIFIED:20260106T164307Z
UID:10000830-1767897000-1767902400@riograndena.org
SUMMARY:RCC Board Meeting
DESCRIPTION:This meeting is zoom only \nZoom ID: 841 3283 9746 \nPassword: RGRCC \nhttps://us02web.zoom.us/j/84132839746?pwd=REFROExsc0lzMG4zUm9uaWRSdjBQZz09
URL:https://riograndena.org/upcoming-event/rcc-board-meeting-2-2-2-2-2-2/2026-01-08/
LOCATION:https://us02web.zoom.us/j/84132839746?pwd=REFROExsc0lzMG4zUm9uaWRSdjBQZz09
CATEGORIES:Rio Grande Region
END:VEVENT
BEGIN:VEVENT
DTSTART;TZID=America/Denver:20260103T143000
DTEND;TZID=America/Denver:20260103T153000
DTSTAMP:20260425T080248
CREATED:20251113T182743Z
LAST-MODIFIED:20251204T195200Z
UID:10000888-1767450600-1767454200@riograndena.org
SUMMARY:Delegate Resource Team Meeting
DESCRIPTION:This meeting is on zoom only \nZoom ID: 864 8227 6311 \nPassword: RGRSC \nhttps://us02web.zoom.us/meetings/86482276311/invitations?signature=WB3rEKOLo8zLtu2rRKr7lAF3R0YkGclz6cJyuxNS0Pg
URL:https://riograndena.org/upcoming-event/delegate-resource-team-meeting/2026-01-03/
LOCATION:
CATEGORIES:Rio Grande Region
END:VEVENT
BEGIN:VEVENT
DTSTART;TZID=America/Denver:20251213T130000
DTEND;TZID=America/Denver:20251213T160000
DTSTAMP:20260425T080248
CREATED:20251204T195036Z
LAST-MODIFIED:20251204T195138Z
UID:10000953-1765630800-1765641600@riograndena.org
SUMMARY:Northern NM Area CAR (Conference Agenda Report) Workshop
DESCRIPTION:This will be a workshop going over the motions that will be voted on at the WSC (World Service Committee) meeting in April 2026
URL:https://riograndena.org/upcoming-event/northern-nm-area-car-conference-agenda-report-workshop/
LOCATION:Christ Lutheran Church\, 1701 Arroyo Chamiso Rd\, Santa Fe\, NM\, 87505\, United States
CATEGORIES:Northern New Mexico Area,Rio Grande Region
END:VEVENT
BEGIN:VEVENT
DTSTART;TZID=America/Denver:20251211T183000
DTEND;TZID=America/Denver:20251211T200000
DTSTAMP:20260425T080248
CREATED:20251204T201159Z
LAST-MODIFIED:20251204T202154Z
UID:10000829-1765477800-1765483200@riograndena.org
SUMMARY:RCC Board Meeting
DESCRIPTION:This meeting is zoom only \nZoom ID: 841 3283 9746 \nPassword: RGRCC \nhttps://us02web.zoom.us/j/84132839746?pwd=REFROExsc0lzMG4zUm9uaWRSdjBQZz09
URL:https://riograndena.org/upcoming-event/rcc-board-meeting-2-2-2-2-2/
LOCATION:https://us02web.zoom.us/j/84132839746?pwd=REFROExsc0lzMG4zUm9uaWRSdjBQZz09
CATEGORIES:Rio Grande Region
END:VEVENT
BEGIN:VEVENT
DTSTART;TZID=America/Denver:20251207T130000
DTEND;TZID=America/Denver:20251207T160000
DTSTAMP:20260425T080248
CREATED:20251204T194805Z
LAST-MODIFIED:20251204T195119Z
UID:10000952-1765112400-1765123200@riograndena.org
SUMMARY:Four Corners Area CAR (Conference Agenda Report) Workshop
DESCRIPTION:This will be a workshop going over the motions that will be voted on at the WSC (World Service Committee) meeting in April 2026
URL:https://riograndena.org/upcoming-event/four-corners-car-conference-agenda-report-workshop/
LOCATION:Animas Alano Club\, 2601 Junction Street\, Durango\, NM\, 81301\, United States
CATEGORIES:Four Corners Area,Rio Grande Region
END:VEVENT
BEGIN:VEVENT
DTSTART;TZID=America/Denver:20251115T140000
DTEND;TZID=America/Denver:20251115T180000
DTSTAMP:20260425T080248
CREATED:20250617T213639Z
LAST-MODIFIED:20251113T181516Z
UID:10000230-1763215200-1763229600@riograndena.org
SUMMARY:Rio Grande Regional Service Committee Meeting
DESCRIPTION:This is a hybrid meeting \nZoom ID: 806 834 7750 \nPassword: RGRSC
URL:https://riograndena.org/upcoming-event/rio-grande-regional-service-committee-2-2/
LOCATION:Center For Spiritual Living in the Heart of Las Cruces\, 575 N Main St\, Las Cruces\, NM\, 88001\, United States
CATEGORIES:Rio Grande Region
END:VEVENT
BEGIN:VEVENT
DTSTART;TZID=America/Denver:20251113T183000
DTEND;TZID=America/Denver:20251113T200000
DTSTAMP:20260425T080248
CREATED:20251113T181811Z
LAST-MODIFIED:20251113T181811Z
UID:10000327-1763058600-1763064000@riograndena.org
SUMMARY:RCC Board Meeting
DESCRIPTION:This meeting is zoom only \nZoom ID: 841 3283 9746 \nPassword: RGRCC \nhttps://us02web.zoom.us/j/84132839746?pwd=REFROExsc0lzMG4zUm9uaWRSdjBQZz09
URL:https://riograndena.org/upcoming-event/rcc-board-meeting-2-2-2-2/
LOCATION:https://us02web.zoom.us/j/84132839746?pwd=REFROExsc0lzMG4zUm9uaWRSdjBQZz09
CATEGORIES:Rio Grande Region
END:VEVENT
END:VCALENDAR