BEGIN:VCALENDAR
VERSION:2.0
PRODID:-//Rio Grande Region of Narcotics Anonymous - ECPv6.15.14//NONSGML v1.0//EN
CALSCALE:GREGORIAN
METHOD:PUBLISH
X-WR-CALNAME:Rio Grande Region of Narcotics Anonymous
X-ORIGINAL-URL:https://riograndena.org
X-WR-CALDESC:Events for Rio Grande Region of Narcotics Anonymous
REFRESH-INTERVAL;VALUE=DURATION:PT1H
X-Robots-Tag:noindex
X-PUBLISHED-TTL:PT1H
BEGIN:VTIMEZONE
TZID:America/Denver
BEGIN:DAYLIGHT
TZOFFSETFROM:-0700
TZOFFSETTO:-0600
TZNAME:MDT
DTSTART:20250309T090000
END:DAYLIGHT
BEGIN:STANDARD
TZOFFSETFROM:-0600
TZOFFSETTO:-0700
TZNAME:MST
DTSTART:20251102T080000
END:STANDARD
BEGIN:DAYLIGHT
TZOFFSETFROM:-0700
TZOFFSETTO:-0600
TZNAME:MDT
DTSTART:20260308T090000
END:DAYLIGHT
BEGIN:STANDARD
TZOFFSETFROM:-0600
TZOFFSETTO:-0700
TZNAME:MST
DTSTART:20261101T080000
END:STANDARD
BEGIN:DAYLIGHT
TZOFFSETFROM:-0700
TZOFFSETTO:-0600
TZNAME:MDT
DTSTART:20270314T090000
END:DAYLIGHT
BEGIN:STANDARD
TZOFFSETFROM:-0600
TZOFFSETTO:-0700
TZNAME:MST
DTSTART:20271107T080000
END:STANDARD
END:VTIMEZONE
BEGIN:VEVENT
DTSTART;TZID=America/Denver:20260502T143000
DTEND;TZID=America/Denver:20260502T153000
DTSTAMP:20260425T050525
CREATED:20251113T182743Z
LAST-MODIFIED:20251204T195200Z
UID:10000892-1777732200-1777735800@riograndena.org
SUMMARY:Delegate Resource Team Meeting
DESCRIPTION:This meeting is on zoom only \nZoom ID: 864 8227 6311 \nPassword: RGRSC \nhttps://us02web.zoom.us/meetings/86482276311/invitations?signature=WB3rEKOLo8zLtu2rRKr7lAF3R0YkGclz6cJyuxNS0Pg
URL:https://riograndena.org/upcoming-event/delegate-resource-team-meeting/2026-05-02/
LOCATION:
CATEGORIES:Rio Grande Region
END:VEVENT
BEGIN:VEVENT
DTSTART;TZID=America/Denver:20260514T183000
DTEND;TZID=America/Denver:20260514T200000
DTSTAMP:20260425T050525
CREATED:20260316T181209Z
LAST-MODIFIED:20260316T181209Z
UID:10000834-1778783400-1778788800@riograndena.org
SUMMARY:RCC Board Meeting
DESCRIPTION:This meeting is zoom only \nZoom ID: 841 3283 9746 \nPassword: RGRCC \nhttps://us02web.zoom.us/j/84132839746?pwd=REFROExsc0lzMG4zUm9uaWRSdjBQZz09
URL:https://riograndena.org/upcoming-event/rcc-board-meeting-2-2-2-2-2-2-2-2/2026-05-14/
LOCATION:https://us02web.zoom.us/j/84132839746?pwd=REFROExsc0lzMG4zUm9uaWRSdjBQZz09
CATEGORIES:Rio Grande Region
END:VEVENT
BEGIN:VEVENT
DTSTART;TZID=America/Denver:20260516T140000
DTEND;TZID=America/Denver:20260516T180000
DTSTAMP:20260425T050525
CREATED:20260412T164632Z
LAST-MODIFIED:20260412T164632Z
UID:10000743-1778940000-1778954400@riograndena.org
SUMMARY:Rio Grande Regional Service Committee Meeting
DESCRIPTION:This is a hybrid meeting \nZoom ID: 806 834 7750 \nPassword: RGRSC
URL:https://riograndena.org/upcoming-event/rio-grande-regional-service-committee-2-2-2-2-2/2026-05-16/
LOCATION:Unitarian Universalist Church\, 107 W Barcelona Rd\, Santa Fe\, NM\, 87505\, United States
CATEGORIES:Rio Grande Region
END:VEVENT
END:VCALENDAR